BEGIN:VCALENDAR
VERSION:2.0
PRODID:-//https://www.kindergarten-agatha-ab.de///NONSGML kigkonsult.se iCalcreator 2.10.15//
METHOD:PUBLISH
BEGIN:VEVENT
UID:20260419T142100CEST-43644bletr@https://www.kindergarten-agatha-ab.de/
DTSTAMP:20260419T122100Z
DESCRIPTION: https://www.kindergarten-agatha-ab.de/aktuelles/kalender/event
 /419-martinszug-im-kindergarten
DTSTART:20251111T160000Z
DTEND:20251111T180000Z
LOCATION:Kindergarten St. Agatha (Treibgasse 7\, 63739 Aschaffenburg\, Deut
 schland)
SUMMARY:Martinszug im Kindergarten
URL:https://www.kindergarten-agatha-ab.de/aktuelles/kalender/event/419-mart
 inszug-im-kindergarten
END:VEVENT
END:VCALENDAR
