BEGIN:VCALENDAR
VERSION:2.0
PRODID:-//https://www.kindergarten-agatha-ab.de///NONSGML kigkonsult.se iCalcreator 2.10.15//
METHOD:PUBLISH
BEGIN:VEVENT
UID:20260421T104641CEST-2926r78csn@https://www.kindergarten-agatha-ab.de/
DTSTAMP:20260421T084641Z
DESCRIPTION: https://www.kindergarten-agatha-ab.de/aktuelles/kalender/event
 /417-kinderkulturtag-im-nilkheimer-park
DTSTART;VALUE=DATE:20250706
LOCATION:Nilkheimer Park ()
SUMMARY:Kinderkulturtag im Nilkheimer Park
URL:https://www.kindergarten-agatha-ab.de/aktuelles/kalender/event/417-kind
 erkulturtag-im-nilkheimer-park
END:VEVENT
END:VCALENDAR
