BEGIN:VCALENDAR
VERSION:2.0
PRODID:-//https://www.kindergarten-agatha-ab.de///NONSGML kigkonsult.se iCalcreator 2.10.15//
METHOD:PUBLISH
BEGIN:VEVENT
UID:20260419T142002CEST-7756nuvDMf@https://www.kindergarten-agatha-ab.de/
DTSTAMP:20260419T122002Z
DESCRIPTION: https://www.kindergarten-agatha-ab.de/aktuelles/kalender/event
 /416-sefra-lauf
DTSTART;VALUE=DATE:20250706
LOCATION:Kindergarten St. Agatha (Treibgasse 7\, 63739 Aschaffenburg\, Deut
 schland)
SUMMARY:Sefra-Lauf
URL:https://www.kindergarten-agatha-ab.de/aktuelles/kalender/event/416-sefr
 a-lauf
END:VEVENT
END:VCALENDAR
