BEGIN:VCALENDAR
VERSION:2.0
PRODID:-//https://www.kindergarten-agatha-ab.de///NONSGML kigkonsult.se iCalcreator 2.10.15//
METHOD:PUBLISH
BEGIN:VEVENT
UID:20260421T131046CEST-78767AJgBW@https://www.kindergarten-agatha-ab.de/
DTSTAMP:20260421T111046Z
DESCRIPTION: https://www.kindergarten-agatha-ab.de/aktuelles/kalender/event
 /415-elternabend-für-die-neuen-eltern
DTSTART:20250701T173000Z
DTEND:20250701T200000Z
LOCATION:Kindergarten St. Agatha (Treibgasse 7\, 63739 Aschaffenburg\, Deut
 schland)
SUMMARY:Elternabend für die neuen Eltern
URL:https://www.kindergarten-agatha-ab.de/aktuelles/kalender/event/415-elte
 rnabend-für-die-neuen-eltern
END:VEVENT
END:VCALENDAR
