BEGIN:VCALENDAR
VERSION:2.0
PRODID:-//https://www.kindergarten-agatha-ab.de///NONSGML kigkonsult.se iCalcreator 2.10.15//
METHOD:PUBLISH
BEGIN:VEVENT
UID:20260421T162608CEST-1322sVllwu@https://www.kindergarten-agatha-ab.de/
DTSTAMP:20260421T142608Z
DESCRIPTION: https://www.kindergarten-agatha-ab.de/aktuelles/kalender/event
 /414-sommerpicknick-im-kindergarten
DTSTART:20250629T113000Z
DTEND:20250629T153000Z
LOCATION:Kindergarten St. Agatha (Treibgasse 7\, 63739 Aschaffenburg\, Deut
 schland)
SUMMARY:Sommerpicknick im Kindergarten
URL:https://www.kindergarten-agatha-ab.de/aktuelles/kalender/event/414-somm
 erpicknick-im-kindergarten
END:VEVENT
END:VCALENDAR
