BEGIN:VCALENDAR
VERSION:2.0
PRODID:-//https://www.kindergarten-agatha-ab.de///NONSGML kigkonsult.se iCalcreator 2.10.15//
METHOD:PUBLISH
BEGIN:VEVENT
UID:20260422T051716CEST-2585Vpf2wV@https://www.kindergarten-agatha-ab.de/
DTSTAMP:20260422T031716Z
DESCRIPTION: https://www.kindergarten-agatha-ab.de/aktuelles/kalender/event
 /413-brücken-schließtag
DTSTART;VALUE=DATE:20250620
LOCATION:Kindergarten St. Agatha (Treibgasse 7\, 63739 Aschaffenburg\, Deut
 schland)
SUMMARY:Brücken-Schließtag
URL:https://www.kindergarten-agatha-ab.de/aktuelles/kalender/event/413-brüc
 ken-schließtag
END:VEVENT
END:VCALENDAR
