BEGIN:VCALENDAR
VERSION:2.0
PRODID:-//https://www.kindergarten-agatha-ab.de///NONSGML kigkonsult.se iCalcreator 2.10.15//
METHOD:PUBLISH
BEGIN:VEVENT
UID:20260422T070353CEST-1860PDAVu8@https://www.kindergarten-agatha-ab.de/
DTSTAMP:20260422T050353Z
DESCRIPTION: https://www.kindergarten-agatha-ab.de/aktuelles/kalender/event
 /412-fronleichnam-feiertag-in-bayern
DTSTART;VALUE=DATE:20250619
LOCATION:Kindergarten St. Agatha (Treibgasse 7\, 63739 Aschaffenburg\, Deut
 schland)
SUMMARY:Fronleichnam - Feiertag in Bayern
URL:https://www.kindergarten-agatha-ab.de/aktuelles/kalender/event/412-fron
 leichnam-feiertag-in-bayern
END:VEVENT
END:VCALENDAR
