BEGIN:VCALENDAR
VERSION:2.0
PRODID:-//https://www.kindergarten-agatha-ab.de///NONSGML kigkonsult.se iCalcreator 2.10.15//
METHOD:PUBLISH
BEGIN:VEVENT
UID:20260422T221527CEST-6741XLEfWI@https://www.kindergarten-agatha-ab.de/
DTSTAMP:20260422T201527Z
DESCRIPTION: https://www.kindergarten-agatha-ab.de/aktuelles/kalender/event
 /411-pfingsten
DTSTART:20250608T060000Z
DTEND:20250609T092200Z
LOCATION:Kindergarten St. Agatha (Treibgasse 7\, 63739 Aschaffenburg\, Deut
 schland)
SUMMARY:Pfingsten
URL:https://www.kindergarten-agatha-ab.de/aktuelles/kalender/event/411-pfin
 gsten
END:VEVENT
END:VCALENDAR
