BEGIN:VCALENDAR
VERSION:2.0
PRODID:-//https://www.kindergarten-agatha-ab.de///NONSGML kigkonsult.se iCalcreator 2.10.15//
METHOD:PUBLISH
BEGIN:VEVENT
UID:20260423T082553CEST-8117RWGDUu@https://www.kindergarten-agatha-ab.de/
DTSTAMP:20260423T062553Z
DESCRIPTION: https://www.kindergarten-agatha-ab.de/aktuelles/kalender/event
 /410-besuch-der-hofbibliothek-2-gruppe
DTSTART:20250602T080000Z
DTEND:20250602T093000Z
LOCATION:Hofbiliothek im Schloß ()
SUMMARY:Besuch der Hofbibliothek - 2. Gruppe
URL:https://www.kindergarten-agatha-ab.de/aktuelles/kalender/event/410-besu
 ch-der-hofbibliothek-2-gruppe
END:VEVENT
END:VCALENDAR
