BEGIN:VCALENDAR
VERSION:2.0
PRODID:-//https://www.kindergarten-agatha-ab.de///NONSGML kigkonsult.se iCalcreator 2.10.15//
METHOD:PUBLISH
BEGIN:VEVENT
UID:20260423T125538CEST-6689KX9jzf@https://www.kindergarten-agatha-ab.de/
DTSTAMP:20260423T105538Z
DESCRIPTION: https://www.kindergarten-agatha-ab.de/aktuelles/kalender/event
 /409-brücken-schließtag
DTSTART;VALUE=DATE:20250530
LOCATION:Kindergarten St. Agatha (Treibgasse 7\, 63739 Aschaffenburg\, Deut
 schland)
SUMMARY:Brücken-Schließtag
URL:https://www.kindergarten-agatha-ab.de/aktuelles/kalender/event/409-brüc
 ken-schließtag
END:VEVENT
END:VCALENDAR
