BEGIN:VCALENDAR
VERSION:2.0
PRODID:-//https://www.kindergarten-agatha-ab.de///NONSGML kigkonsult.se iCalcreator 2.10.15//
METHOD:PUBLISH
BEGIN:VEVENT
UID:20260423T140847CEST-6724iECJCA@https://www.kindergarten-agatha-ab.de/
DTSTAMP:20260423T120847Z
DESCRIPTION: https://www.kindergarten-agatha-ab.de/aktuelles/kalender/event
 /408-christi-himmelfahrt-feiertag
DTSTART;VALUE=DATE:20250529
LOCATION:Kindergarten St. Agatha (Treibgasse 7\, 63739 Aschaffenburg\, Deut
 schland)
SUMMARY:Christi Himmelfahrt - Feiertag
URL:https://www.kindergarten-agatha-ab.de/aktuelles/kalender/event/408-chri
 sti-himmelfahrt-feiertag
END:VEVENT
END:VCALENDAR
