BEGIN:VCALENDAR
VERSION:2.0
PRODID:-//https://www.kindergarten-agatha-ab.de///NONSGML kigkonsult.se iCalcreator 2.10.15//
METHOD:PUBLISH
BEGIN:VEVENT
UID:20260423T181937CEST-3726RO4d5F@https://www.kindergarten-agatha-ab.de/
DTSTAMP:20260423T161937Z
DESCRIPTION: https://www.kindergarten-agatha-ab.de/aktuelles/kalender/event
 /407-besuch-der-hofbibliothek-1-gruppe
DTSTART:20250526T080000Z
DTEND:20250526T093000Z
LOCATION:Hofbiliothek im Schloß ()
SUMMARY:Besuch der Hofbibliothek - 1. Gruppe
URL:https://www.kindergarten-agatha-ab.de/aktuelles/kalender/event/407-besu
 ch-der-hofbibliothek-1-gruppe
END:VEVENT
END:VCALENDAR
