BEGIN:VCALENDAR
VERSION:2.0
PRODID:-//https://www.kindergarten-agatha-ab.de///NONSGML kigkonsult.se iCalcreator 2.10.15//
METHOD:PUBLISH
BEGIN:VEVENT
UID:20260425T150523CEST-2458jKjftA@https://www.kindergarten-agatha-ab.de/
DTSTAMP:20260425T130523Z
DESCRIPTION: https://www.kindergarten-agatha-ab.de/aktuelles/kalender/event
 /405-hofaktion-frühjahr
DTSTART:20250523T130000Z
DTEND:20250523T150000Z
LOCATION:Kindergarten St. Agatha (Treibgasse 7\, 63739 Aschaffenburg\, Deut
 schland)
SUMMARY:Hofaktion 'Frühjahr'
URL:https://www.kindergarten-agatha-ab.de/aktuelles/kalender/event/405-hofa
 ktion-frühjahr
END:VEVENT
END:VCALENDAR
