BEGIN:VCALENDAR
VERSION:2.0
PRODID:-//https://www.kindergarten-agatha-ab.de///NONSGML kigkonsult.se iCalcreator 2.10.15//
METHOD:PUBLISH
BEGIN:VEVENT
UID:20260423T053846CEST-2749a6JJdI@https://www.kindergarten-agatha-ab.de/
DTSTAMP:20260423T033846Z
DESCRIPTION: https://www.kindergarten-agatha-ab.de/aktuelles/event/319-mart
 insfeier-im-kindergarten
DTSTART:20221111T094500Z
DTEND:20221111T110000Z
LOCATION:Kindergarten St. Agatha (Treibgasse 7\, 63739 Aschaffenburg\, Deut
 schland)
SUMMARY:Martinsfeier im Kindergarten
URL:https://www.kindergarten-agatha-ab.de/aktuelles/event/319-martinsfeier-
 im-kindergarten
END:VEVENT
END:VCALENDAR
